BEGIN:VCALENDAR
VERSION:2.0
PRODID:-//PEF - ECPv6.15.20//NONSGML v1.0//EN
CALSCALE:GREGORIAN
METHOD:PUBLISH
X-ORIGINAL-URL:https://www.pef.org
X-WR-CALDESC:Events for PEF
REFRESH-INTERVAL;VALUE=DURATION:PT1H
X-Robots-Tag:noindex
X-PUBLISHED-TTL:PT1H
BEGIN:VTIMEZONE
TZID:America/New_York
BEGIN:DAYLIGHT
TZOFFSETFROM:-0500
TZOFFSETTO:-0400
TZNAME:EDT
DTSTART:20230312T070000
END:DAYLIGHT
BEGIN:STANDARD
TZOFFSETFROM:-0400
TZOFFSETTO:-0500
TZNAME:EST
DTSTART:20231105T060000
END:STANDARD
BEGIN:DAYLIGHT
TZOFFSETFROM:-0500
TZOFFSETTO:-0400
TZNAME:EDT
DTSTART:20240310T070000
END:DAYLIGHT
BEGIN:STANDARD
TZOFFSETFROM:-0400
TZOFFSETTO:-0500
TZNAME:EST
DTSTART:20241103T060000
END:STANDARD
BEGIN:DAYLIGHT
TZOFFSETFROM:-0500
TZOFFSETTO:-0400
TZNAME:EDT
DTSTART:20250309T070000
END:DAYLIGHT
BEGIN:STANDARD
TZOFFSETFROM:-0400
TZOFFSETTO:-0500
TZNAME:EST
DTSTART:20251102T060000
END:STANDARD
END:VTIMEZONE
BEGIN:VEVENT
DTSTART;TZID=America/New_York:20240809T130000
DTEND;TZID=America/New_York:20240809T170000
DTSTAMP:20260424T091100
CREATED:20240719T143046Z
LAST-MODIFIED:20240719T143046Z
UID:10000053-1723208400-1723222800@www.pef.org
SUMMARY:DOL Central Region picnic
DESCRIPTION:PEF Members at Division 264: \nIt’s time for the annual Department of Labor Central Region Picnic! \nClick here to download a flyer with all the information. Please post it on union bulletin boards where applicable and share on social media. Here are the basic details: \nWho: All PEF Division 264 Members are invited!\nWhat: Central Region DOL Summer Picnic\nWhere: Saw Mill Creek Shelter in Onondaga Lake Park\, Liverpool\, N.Y.\nWhen: Aug. 9\, 1:00-5:00 p.m. \nThe price for PEF members and retirees is just $5. The first 25 non-PEF members will also pay just $5 and then $25 per person after that. Children under 12 are $5 as well. \nSee the flyer for who is accepting registrations and payment at your workplace. The deadline for registrations and payment is August 2. \nPlease also read the details on the flyer about obtaining supervisory approval to attend.
URL:https://www.pef.org/event/dol-central-region-picnic/
LOCATION:Saw Mill Creek Shelter in Onondaga Lake Park\, Liverpool\, N.Y.
END:VEVENT
END:VCALENDAR