BEGIN:VCALENDAR
VERSION:2.0
PRODID:-//PEF - ECPv6.15.20//NONSGML v1.0//EN
CALSCALE:GREGORIAN
METHOD:PUBLISH
X-WR-CALNAME:PEF
X-ORIGINAL-URL:https://www.pef.org
X-WR-CALDESC:Events for PEF
REFRESH-INTERVAL;VALUE=DURATION:PT1H
X-Robots-Tag:noindex
X-PUBLISHED-TTL:PT1H
BEGIN:VTIMEZONE
TZID:America/New_York
BEGIN:DAYLIGHT
TZOFFSETFROM:-0500
TZOFFSETTO:-0400
TZNAME:EDT
DTSTART:20230312T070000
END:DAYLIGHT
BEGIN:STANDARD
TZOFFSETFROM:-0400
TZOFFSETTO:-0500
TZNAME:EST
DTSTART:20231105T060000
END:STANDARD
BEGIN:DAYLIGHT
TZOFFSETFROM:-0500
TZOFFSETTO:-0400
TZNAME:EDT
DTSTART:20240310T070000
END:DAYLIGHT
BEGIN:STANDARD
TZOFFSETFROM:-0400
TZOFFSETTO:-0500
TZNAME:EST
DTSTART:20241103T060000
END:STANDARD
BEGIN:DAYLIGHT
TZOFFSETFROM:-0500
TZOFFSETTO:-0400
TZNAME:EDT
DTSTART:20250309T070000
END:DAYLIGHT
BEGIN:STANDARD
TZOFFSETFROM:-0400
TZOFFSETTO:-0500
TZNAME:EST
DTSTART:20251102T060000
END:STANDARD
END:VTIMEZONE
BEGIN:VEVENT
DTSTART;TZID=America/New_York:20241002T170000
DTEND;TZID=America/New_York:20241002T210000
DTSTAMP:20260425T093523
CREATED:20240826T131044Z
LAST-MODIFIED:20240826T131044Z
UID:10000097-1727888400-1727902800@www.pef.org
SUMMARY:Region 3: PEF Member Appreciation Event at Batavia Downs
DESCRIPTION:PEF Members in Region 3: \nYou are all invited to join your union siblings at a Member Appreciation Event to be held Wed.\, Oct. 2 from 5:00-9:00 p.m. at Batavia Downs. All the details are on this flyer. \nEvery PEF member may bring one guest and the cost is just $10. Come on out for good food\, drinks\, and entertainment! Visit this link to register or scan the QR code on the flyer.
URL:https://www.pef.org/event/region-3-pef-member-appreciation-event-at-batavia-downs/
LOCATION:Batavia Downs
END:VEVENT
BEGIN:VEVENT
DTSTART;VALUE=DATE:20241003
DTEND;VALUE=DATE:20241005
DTSTAMP:20260425T093523
CREATED:20241002T140822Z
LAST-MODIFIED:20241002T140822Z
UID:10000101-1727913600-1728086399@www.pef.org
SUMMARY:Rosh Hashanah
DESCRIPTION:
URL:https://www.pef.org/event/rosh-hashanah/
END:VEVENT
BEGIN:VEVENT
DTSTART;VALUE=DATE:20241004
DTEND;VALUE=DATE:20241005
DTSTAMP:20260425T093523
CREATED:20240821T182217Z
LAST-MODIFIED:20240821T182222Z
UID:10000075-1728000000-1728086399@www.pef.org
SUMMARY:Article 18 Agenda Setting Meeting
DESCRIPTION:PEF HEADQUARTERS: Conference Room A
URL:https://www.pef.org/event/article-18-agenda-setting-meeting/
LOCATION:PEF HEADQUARTERS
CATEGORIES:Meetings
END:VEVENT
BEGIN:VEVENT
DTSTART;VALUE=DATE:20241007
DTEND;VALUE=DATE:20241008
DTSTAMP:20260425T093523
CREATED:20240821T182307Z
LAST-MODIFIED:20240821T182307Z
UID:10000076-1728259200-1728345599@www.pef.org
SUMMARY:Region 8 IT Meeting
DESCRIPTION:PEF HEADQUARTERS: Conference Room C
URL:https://www.pef.org/event/region-8-it-meeting/
LOCATION:PEF HEADQUARTERS
CATEGORIES:Meetings
END:VEVENT
BEGIN:VEVENT
DTSTART;TZID=America/New_York:20241007T120000
DTEND;TZID=America/New_York:20241007T133000
DTSTAMP:20260425T093523
CREATED:20240813T162351Z
LAST-MODIFIED:20240813T162351Z
UID:10000066-1728302400-1728307800@www.pef.org
SUMMARY:Virtual Occupational Stress Training
DESCRIPTION:ITS PEF Members: \nOn behalf of the PEF/ITS Statewide Health & Safety Committee\, we are organizing a virtual “Overview of Occupational Stress Impacts and Interventions” on October 7\, 2024. In this training\, attendees will learn to assess their workplaces for occupational stress risk factors\, the symptoms associated with these risks\, and their long-term effects. We will also discuss recommended interventions that could help reduce stress and ultimately job strain. \n\n\n\nITS management has allowed participants to use their work hours with prior permission from their supervisor. If you would like to attend this training\, please contact your supervisor for permission. \nDate: Monday\, October 7\, 2024 \nTime: 12:00 – 1:30 PM \n\n\nWhen you have supervisory approval\, you may register here by October 1. The Zoom link will be sent to you after that.
URL:https://www.pef.org/event/virtual-occupational-stress-training/
CATEGORIES:Training
END:VEVENT
BEGIN:VEVENT
DTSTART;VALUE=DATE:20241009
DTEND;VALUE=DATE:20241010
DTSTAMP:20260425T093523
CREATED:20240821T182432Z
LAST-MODIFIED:20240821T182432Z
UID:10000078-1728432000-1728518399@www.pef.org
SUMMARY:SWPAC
DESCRIPTION:PEF HEADQUARTERS: Conference Rooms B and C
URL:https://www.pef.org/event/swpac/
LOCATION:PEF HEADQUARTERS
CATEGORIES:PAC
END:VEVENT
BEGIN:VEVENT
DTSTART;VALUE=DATE:20241009
DTEND;VALUE=DATE:20241010
DTSTAMP:20260425T093523
CREATED:20240821T182520Z
LAST-MODIFIED:20240821T182520Z
UID:10000079-1728432000-1728518399@www.pef.org
SUMMARY:Region 8 Steward's Meeting
DESCRIPTION:PEF HEADQUARTERS: Conference Rooms B and C
URL:https://www.pef.org/event/region-8-stewards-meeting/
LOCATION:PEF HEADQUARTERS
CATEGORIES:Meetings
END:VEVENT
BEGIN:VEVENT
DTSTART;VALUE=DATE:20241010
DTEND;VALUE=DATE:20241011
DTSTAMP:20260425T093523
CREATED:20240821T182557Z
LAST-MODIFIED:20240821T182557Z
UID:10000080-1728518400-1728604799@www.pef.org
SUMMARY:Executive Council
DESCRIPTION:PEF HEADQUARTERS: Conference Rooms A\, B\, and C
URL:https://www.pef.org/event/executive-council-2/
LOCATION:PEF HEADQUARTERS
CATEGORIES:Executive Council
END:VEVENT
BEGIN:VEVENT
DTSTART;VALUE=DATE:20241012
DTEND;VALUE=DATE:20241013
DTSTAMP:20260425T093523
CREATED:20241002T140847Z
LAST-MODIFIED:20241002T140847Z
UID:10000102-1728691200-1728777599@www.pef.org
SUMMARY:Yom Kippur
DESCRIPTION:
URL:https://www.pef.org/event/yom-kippur/
END:VEVENT
BEGIN:VEVENT
DTSTART;TZID=America/New_York:20241012T100000
DTEND;TZID=America/New_York:20241012T130000
DTSTAMP:20260425T093523
CREATED:20240821T123538Z
LAST-MODIFIED:20240821T123538Z
UID:10000070-1728727200-1728738000@www.pef.org
SUMMARY:Community Giveback Event at Tops Friendly Markets (Buffalo)
DESCRIPTION:PEF Council Leaders\, Executive Board Members and Stewards in Region 1: \nPEF will once again be giving back to the community in Buffalo that was so impacted by the tragic murders of 10 people at a Tops Friendly Markets store on May 14\, 2022. \nAn event is scheduled for Sat.\, Oct. 12\, from 10 a.m. until 1 p.m. at 1275 Jefferson Ave. in the parking lot. Region 1 and PEF Membership Benefits are sponsoring the event. We will have a shredding truck available on site\, and will be handing out books and drawstring bags to kids. \nAs Region 1 leaders\, you are welcome to set up an information table representing your agency or provide handouts that might be useful to members of the community. If you’d like to volunteer to stuff bags or work on location on Oct. 12\, please RSVP before Sept. 17 by calling Crystal in the PEF Region 1 office at (716) 853-3100.
URL:https://www.pef.org/event/community-giveback-event-at-tops-friendly-markets-buffalo/
LOCATION:1275 Jefferson Ave. Buffalo\, NY
END:VEVENT
BEGIN:VEVENT
DTSTART;VALUE=DATE:20241014
DTEND;VALUE=DATE:20241015
DTSTAMP:20260425T093523
CREATED:20240530T175017Z
LAST-MODIFIED:20240530T175017Z
UID:10000013-1728864000-1728950399@www.pef.org
SUMMARY:Columbus Day
DESCRIPTION:
URL:https://www.pef.org/event/columbus-day/
CATEGORIES:Holidays
END:VEVENT
BEGIN:VEVENT
DTSTART;VALUE=DATE:20241016
DTEND;VALUE=DATE:20241017
DTSTAMP:20260425T093523
CREATED:20240821T182643Z
LAST-MODIFIED:20240821T182643Z
UID:10000081-1729036800-1729123199@www.pef.org
SUMMARY:Region 8 PAC Meeting
DESCRIPTION:PEF HEADQUARTERS: Conference Room C
URL:https://www.pef.org/event/region-8-pac-meeting/
LOCATION:PEF HEADQUARTERS
CATEGORIES:PAC
END:VEVENT
END:VCALENDAR