BEGIN:VCALENDAR
VERSION:2.0
PRODID:-//PEF - ECPv6.15.20//NONSGML v1.0//EN
CALSCALE:GREGORIAN
METHOD:PUBLISH
X-ORIGINAL-URL:https://www.pef.org
X-WR-CALDESC:Events for PEF
REFRESH-INTERVAL;VALUE=DURATION:PT1H
X-Robots-Tag:noindex
X-PUBLISHED-TTL:PT1H
BEGIN:VTIMEZONE
TZID:America/New_York
BEGIN:DAYLIGHT
TZOFFSETFROM:-0500
TZOFFSETTO:-0400
TZNAME:EDT
DTSTART:20230312T070000
END:DAYLIGHT
BEGIN:STANDARD
TZOFFSETFROM:-0400
TZOFFSETTO:-0500
TZNAME:EST
DTSTART:20231105T060000
END:STANDARD
BEGIN:DAYLIGHT
TZOFFSETFROM:-0500
TZOFFSETTO:-0400
TZNAME:EDT
DTSTART:20240310T070000
END:DAYLIGHT
BEGIN:STANDARD
TZOFFSETFROM:-0400
TZOFFSETTO:-0500
TZNAME:EST
DTSTART:20241103T060000
END:STANDARD
BEGIN:DAYLIGHT
TZOFFSETFROM:-0500
TZOFFSETTO:-0400
TZNAME:EDT
DTSTART:20250309T070000
END:DAYLIGHT
BEGIN:STANDARD
TZOFFSETFROM:-0400
TZOFFSETTO:-0500
TZNAME:EST
DTSTART:20251102T060000
END:STANDARD
END:VTIMEZONE
BEGIN:VEVENT
DTSTART;TZID=America/New_York:20241216T174500
DTEND;TZID=America/New_York:20241216T193000
DTSTAMP:20260421T210121
CREATED:20241125T204003Z
LAST-MODIFIED:20241125T204003Z
UID:10000132-1734371100-1734377400@www.pef.org
SUMMARY:Hanukkah Celebration - NYC
DESCRIPTION:The PEF Jewish Committee cordially invites YOU to join us for our annual Hanukkah Celebration \nDATE: Monday\, December 16\, 2024 \nWHERE: In person (limited to the first 40 RSVPs): \nNYC PEF Office \n100 William Street\, 17th floor \nNew York\, NY \nDinner will be provided \nVia Zoom (includes the option to attend by telephone): \nTIME: 5:45 pm – 7:30 pm \n  \nIf you want to join us\, please RSVP as soon as possible to RSchwartz@pef.org. Please indicate whether you will be attending in \nperson or via Zoom. We will then send you further information including whether we are able to accommodate you in person. If you do not have a computer\, please call (516) 642-5741 and leave a message with your name\, address\, telephone number and whether you want to attend in person or via Zoom. For those coming in person\, please be advised that building security is tight and requires all names to be submitted in advance for admission.
URL:https://www.pef.org/event/hanukkah-celebration-nyc/
CATEGORIES:Holidays
END:VEVENT
END:VCALENDAR