BEGIN:VCALENDAR
VERSION:2.0
PRODID:-//PEF - ECPv6.15.20//NONSGML v1.0//EN
CALSCALE:GREGORIAN
METHOD:PUBLISH
X-ORIGINAL-URL:https://www.pef.org
X-WR-CALDESC:Events for PEF
REFRESH-INTERVAL;VALUE=DURATION:PT1H
X-Robots-Tag:noindex
X-PUBLISHED-TTL:PT1H
BEGIN:VTIMEZONE
TZID:America/New_York
BEGIN:DAYLIGHT
TZOFFSETFROM:-0500
TZOFFSETTO:-0400
TZNAME:EDT
DTSTART:20230312T070000
END:DAYLIGHT
BEGIN:STANDARD
TZOFFSETFROM:-0400
TZOFFSETTO:-0500
TZNAME:EST
DTSTART:20231105T060000
END:STANDARD
BEGIN:DAYLIGHT
TZOFFSETFROM:-0500
TZOFFSETTO:-0400
TZNAME:EDT
DTSTART:20240310T070000
END:DAYLIGHT
BEGIN:STANDARD
TZOFFSETFROM:-0400
TZOFFSETTO:-0500
TZNAME:EST
DTSTART:20241103T060000
END:STANDARD
BEGIN:DAYLIGHT
TZOFFSETFROM:-0500
TZOFFSETTO:-0400
TZNAME:EDT
DTSTART:20250309T070000
END:DAYLIGHT
BEGIN:STANDARD
TZOFFSETFROM:-0400
TZOFFSETTO:-0500
TZNAME:EST
DTSTART:20251102T060000
END:STANDARD
END:VTIMEZONE
BEGIN:VEVENT
DTSTART;VALUE=DATE:20240902
DTEND;VALUE=DATE:20240903
DTSTAMP:20260422T000756
CREATED:20240530T174953Z
LAST-MODIFIED:20240530T174953Z
UID:10000012-1725235200-1725321599@www.pef.org
SUMMARY:Labor Day
DESCRIPTION:
URL:https://www.pef.org/event/labor-day/
CATEGORIES:Holidays
END:VEVENT
BEGIN:VEVENT
DTSTART;TZID=America/New_York:20240902T100000
DTEND;TZID=America/New_York:20240902T170000
DTSTAMP:20260422T000756
CREATED:20240815T122145Z
LAST-MODIFIED:20240815T122145Z
UID:10000068-1725271200-1725296400@www.pef.org
SUMMARY:Buffalo Labor Day Parade
DESCRIPTION:PEF Region 1 Members: \nIt’s that time of year again! PEF will be marching in the Buffalo Labor Day Parade on Monday\, Sept. 2. \nAny member wishing to walk with the PEF team should RSVP with me. Just reply to this email with your name\, agency\, phone number\, and the number of people attending the parade with you and their t-shirt sizes. The deadline to RSVP is Aug. 26. \nWe will line up at the intersection of Dorrance and McKinley starting at 10 a.m. and the parade steps off at 11. \nThere is a picnic immediately following the parade in Cazenovia Park. PEF Region 1 is covering the cost of the picnic for everyone. It will probably be easiest to park at Cazenovia Park. Buses will transport you to the line-up site.
URL:https://www.pef.org/event/buffalo-labor-day-parade/
CATEGORIES:Holidays
END:VEVENT
END:VCALENDAR