BEGIN:VCALENDAR
VERSION:2.0
PRODID:-//PEF - ECPv6.15.17//NONSGML v1.0//EN
CALSCALE:GREGORIAN
METHOD:PUBLISH
X-ORIGINAL-URL:https://www.pef.org
X-WR-CALDESC:Events for PEF
REFRESH-INTERVAL;VALUE=DURATION:PT1H
X-Robots-Tag:noindex
X-PUBLISHED-TTL:PT1H
BEGIN:VTIMEZONE
TZID:America/New_York
BEGIN:DAYLIGHT
TZOFFSETFROM:-0500
TZOFFSETTO:-0400
TZNAME:EDT
DTSTART:20240310T070000
END:DAYLIGHT
BEGIN:STANDARD
TZOFFSETFROM:-0400
TZOFFSETTO:-0500
TZNAME:EST
DTSTART:20241103T060000
END:STANDARD
BEGIN:DAYLIGHT
TZOFFSETFROM:-0500
TZOFFSETTO:-0400
TZNAME:EDT
DTSTART:20250309T070000
END:DAYLIGHT
BEGIN:STANDARD
TZOFFSETFROM:-0400
TZOFFSETTO:-0500
TZNAME:EST
DTSTART:20251102T060000
END:STANDARD
BEGIN:DAYLIGHT
TZOFFSETFROM:-0500
TZOFFSETTO:-0400
TZNAME:EDT
DTSTART:20260308T070000
END:DAYLIGHT
BEGIN:STANDARD
TZOFFSETFROM:-0400
TZOFFSETTO:-0500
TZNAME:EST
DTSTART:20261101T060000
END:STANDARD
END:VTIMEZONE
BEGIN:VEVENT
DTSTART;VALUE=DATE:20250310
DTEND;VALUE=DATE:20250314
DTSTAMP:20260419T092921
CREATED:20241210T182220Z
LAST-MODIFIED:20241210T182627Z
UID:10000149-1741564800-1741910399@www.pef.org
SUMMARY:New York State Legislative In Session
DESCRIPTION:
URL:https://www.pef.org/event/new-york-state-legislative-in-session-9/
CATEGORIES:Legislative Calendar
END:VEVENT
BEGIN:VEVENT
DTSTART;TZID=America/New_York:20250313T123000
DTEND;TZID=America/New_York:20250313T140000
DTSTAMP:20260419T092921
CREATED:20250207T193835Z
LAST-MODIFIED:20250207T193846Z
UID:10000183-1741869000-1741874400@www.pef.org
SUMMARY:Division 407 OPWDD Membership Meeting
DESCRIPTION:Division 407 OPWDD Members: \nDivision 407 is scheduled to have the next Membership Meeting on March 13 at 12:30 p.m. \nThe meeting will take place in the Large Conference Room at Metro NY DDSO\, 2400 Halsey Street starting at 12:30 p.m. \nAgenda: \n\nEmployee Assistance Program\nCOPE Presentation\nHealth & Safety/Workplace Violence\nPEF’S Downstate Organizing\nDeferred Compensation\n\nPlease click here to RSVP. \nPlease click here for a flyer you can share with your fellow members.
URL:https://www.pef.org/event/division-407-opwdd-membership-meeting/
CATEGORIES:Meetings
END:VEVENT
END:VCALENDAR