BEGIN:VCALENDAR
VERSION:2.0
PRODID:-//PEF - ECPv6.15.17//NONSGML v1.0//EN
CALSCALE:GREGORIAN
METHOD:PUBLISH
X-WR-CALNAME:PEF
X-ORIGINAL-URL:https://www.pef.org
X-WR-CALDESC:Events for PEF
REFRESH-INTERVAL;VALUE=DURATION:PT1H
X-Robots-Tag:noindex
X-PUBLISHED-TTL:PT1H
BEGIN:VTIMEZONE
TZID:America/New_York
BEGIN:DAYLIGHT
TZOFFSETFROM:-0500
TZOFFSETTO:-0400
TZNAME:EDT
DTSTART:20240310T070000
END:DAYLIGHT
BEGIN:STANDARD
TZOFFSETFROM:-0400
TZOFFSETTO:-0500
TZNAME:EST
DTSTART:20241103T060000
END:STANDARD
BEGIN:DAYLIGHT
TZOFFSETFROM:-0500
TZOFFSETTO:-0400
TZNAME:EDT
DTSTART:20250309T070000
END:DAYLIGHT
BEGIN:STANDARD
TZOFFSETFROM:-0400
TZOFFSETTO:-0500
TZNAME:EST
DTSTART:20251102T060000
END:STANDARD
BEGIN:DAYLIGHT
TZOFFSETFROM:-0500
TZOFFSETTO:-0400
TZNAME:EDT
DTSTART:20260308T070000
END:DAYLIGHT
BEGIN:STANDARD
TZOFFSETFROM:-0400
TZOFFSETTO:-0500
TZNAME:EST
DTSTART:20261101T060000
END:STANDARD
END:VTIMEZONE
BEGIN:VEVENT
DTSTART;TZID=America/New_York:20250218T180000
DTEND;TZID=America/New_York:20250218T190000
DTSTAMP:20260419T081009
CREATED:20250113T202702Z
LAST-MODIFIED:20250113T202702Z
UID:10000173-1739901600-1739905200@www.pef.org
SUMMARY:Division 405 Holiday Meet & Greet
DESCRIPTION:PEF Division 405 Members: \nPlease join us to celebrate a PEF meet and greet! \nDate: Tuesday\, February 18 \nTime: 6:00pm \nLocation: at Carmine’s flagship restaurant on the Upper West Side of Manhattan\, located on Broadway between 90th and 91st streets\, New York\, NY 10024 \nPlease RSVP by Tuesday\, January 21\, 2025. Text Travis Berry at (646) 345-5868 or e-mail Tberry3989@aol.com to RSVP. \nPlease click here for a flyer you can share with fellow members.
URL:https://www.pef.org/event/division-405-holiday-meet-greet/
END:VEVENT
END:VCALENDAR