BEGIN:VCALENDAR
VERSION:2.0
PRODID:-//PEF - ECPv6.15.20//NONSGML v1.0//EN
CALSCALE:GREGORIAN
METHOD:PUBLISH
X-WR-CALNAME:PEF
X-ORIGINAL-URL:https://www.pef.org
X-WR-CALDESC:Events for PEF
REFRESH-INTERVAL;VALUE=DURATION:PT1H
X-Robots-Tag:noindex
X-PUBLISHED-TTL:PT1H
BEGIN:VTIMEZONE
TZID:America/New_York
BEGIN:DAYLIGHT
TZOFFSETFROM:-0500
TZOFFSETTO:-0400
TZNAME:EDT
DTSTART:20230312T070000
END:DAYLIGHT
BEGIN:STANDARD
TZOFFSETFROM:-0400
TZOFFSETTO:-0500
TZNAME:EST
DTSTART:20231105T060000
END:STANDARD
BEGIN:DAYLIGHT
TZOFFSETFROM:-0500
TZOFFSETTO:-0400
TZNAME:EDT
DTSTART:20240310T070000
END:DAYLIGHT
BEGIN:STANDARD
TZOFFSETFROM:-0400
TZOFFSETTO:-0500
TZNAME:EST
DTSTART:20241103T060000
END:STANDARD
BEGIN:DAYLIGHT
TZOFFSETFROM:-0500
TZOFFSETTO:-0400
TZNAME:EDT
DTSTART:20250309T070000
END:DAYLIGHT
BEGIN:STANDARD
TZOFFSETFROM:-0400
TZOFFSETTO:-0500
TZNAME:EST
DTSTART:20251102T060000
END:STANDARD
END:VTIMEZONE
BEGIN:VEVENT
DTSTART;TZID=America/New_York:20241212T170000
DTEND;TZID=America/New_York:20241212T220000
DTSTAMP:20260421T090529
CREATED:20241204T143531Z
LAST-MODIFIED:20241204T143531Z
UID:10000139-1734022800-1734040800@www.pef.org
SUMMARY:PEF Division 352 Regions 10 & 11 Holiday Party
DESCRIPTION:You are cordially invited to our upcoming Holiday Party!\n  \nDate: Thursday December 12\nTime: 5PM-10PM\nLocation: Katra Lounge\, 217 Bowery\, New York\, NY 10002\n\nFree of charge to all PEF members!  Non-PEF members and guests must pay $40.00.\n\nPlease RSVP by December 10th. Please contact Sharon Samuels\, Division 352 Council Leader\, at: sharon.samuels@pef.org.\n\nPlease click here for a flyer you can share with your fellow members.
URL:https://www.pef.org/event/pef-division-352-regions-10-11-holiday-party/
END:VEVENT
END:VCALENDAR