BEGIN:VCALENDAR
VERSION:2.0
PRODID:-//PEF - ECPv6.15.20//NONSGML v1.0//EN
CALSCALE:GREGORIAN
METHOD:PUBLISH
X-ORIGINAL-URL:https://www.pef.org
X-WR-CALDESC:Events for PEF
REFRESH-INTERVAL;VALUE=DURATION:PT1H
X-Robots-Tag:noindex
X-PUBLISHED-TTL:PT1H
BEGIN:VTIMEZONE
TZID:America/New_York
BEGIN:DAYLIGHT
TZOFFSETFROM:-0500
TZOFFSETTO:-0400
TZNAME:EDT
DTSTART:20230312T070000
END:DAYLIGHT
BEGIN:STANDARD
TZOFFSETFROM:-0400
TZOFFSETTO:-0500
TZNAME:EST
DTSTART:20231105T060000
END:STANDARD
BEGIN:DAYLIGHT
TZOFFSETFROM:-0500
TZOFFSETTO:-0400
TZNAME:EDT
DTSTART:20240310T070000
END:DAYLIGHT
BEGIN:STANDARD
TZOFFSETFROM:-0400
TZOFFSETTO:-0500
TZNAME:EST
DTSTART:20241103T060000
END:STANDARD
BEGIN:DAYLIGHT
TZOFFSETFROM:-0500
TZOFFSETTO:-0400
TZNAME:EDT
DTSTART:20250309T070000
END:DAYLIGHT
BEGIN:STANDARD
TZOFFSETFROM:-0400
TZOFFSETTO:-0500
TZNAME:EST
DTSTART:20251102T060000
END:STANDARD
END:VTIMEZONE
BEGIN:VEVENT
DTSTART;TZID=America/New_York:20240926T080000
DTEND;TZID=America/New_York:20240926T140000
DTSTAMP:20260419T214342
CREATED:20240925T151206Z
LAST-MODIFIED:20240925T151206Z
UID:10000100-1727337600-1727359200@www.pef.org
SUMMARY:Workplace Violence meetings at South Beach PC
DESCRIPTION:PEF leaders and staff will be on site Thurs.\, Sept. 26\, to talk with you about the recent workplace violence at the facility and what the union is doing about it. \nFor those of you working an early or overnight shift\, we will have a breakfast meeting starting at 8 a.m. in the lobby of building 18. We will then have another meeting from 11:30 a.m. until 2 p.m. in the auditorium where boxed lunches will be provided. Both of these are “open” meetings — please stop by whenever it is convenient for you \nIf you can’t make either of the meetings\, and want to know how you can get involved and support the effort\, please reach out to Council Leader Shaquana Perry at Shaquana.Perry@pef.org or Treasurer Debbie Deas at iasijah@aol.com.
URL:https://www.pef.org/event/workplace-violence-meetings-at-south-beach-pc/
END:VEVENT
END:VCALENDAR